BEGIN:VCALENDAR
VERSION:2.0
PRODID:-//Afropanda Entertainment - ECPv6.15.20//NONSGML v1.0//EN
CALSCALE:GREGORIAN
METHOD:PUBLISH
X-ORIGINAL-URL:https://afropandaent.com
X-WR-CALDESC:Events for Afropanda Entertainment
REFRESH-INTERVAL;VALUE=DURATION:PT1H
X-Robots-Tag:noindex
X-PUBLISHED-TTL:PT1H
BEGIN:VTIMEZONE
TZID:America/Denver
BEGIN:DAYLIGHT
TZOFFSETFROM:-0700
TZOFFSETTO:-0600
TZNAME:MDT
DTSTART:20230312T090000
END:DAYLIGHT
BEGIN:STANDARD
TZOFFSETFROM:-0600
TZOFFSETTO:-0700
TZNAME:MST
DTSTART:20231105T080000
END:STANDARD
BEGIN:DAYLIGHT
TZOFFSETFROM:-0700
TZOFFSETTO:-0600
TZNAME:MDT
DTSTART:20240310T090000
END:DAYLIGHT
BEGIN:STANDARD
TZOFFSETFROM:-0600
TZOFFSETTO:-0700
TZNAME:MST
DTSTART:20241103T080000
END:STANDARD
BEGIN:DAYLIGHT
TZOFFSETFROM:-0700
TZOFFSETTO:-0600
TZNAME:MDT
DTSTART:20250309T090000
END:DAYLIGHT
BEGIN:STANDARD
TZOFFSETFROM:-0600
TZOFFSETTO:-0700
TZNAME:MST
DTSTART:20251102T080000
END:STANDARD
END:VTIMEZONE
BEGIN:VEVENT
DTSTART;TZID=America/Denver:20240901T150000
DTEND;TZID=America/Denver:20240901T220000
DTSTAMP:20260422T043116
CREATED:20240809T093757Z
LAST-MODIFIED:20240820T022527Z
UID:2621-1725202800-1725228000@afropandaent.com
SUMMARY:Exclusive Luxx All-White Party 2: Elevate Your Night on the Rooftop!
DESCRIPTION:GET TICKETS\n			\n			\nMark your calendars for the ultimate rooftop experience! On September 1\, 2024\, from 3 PM to 10 PM\, the Luxx All-White Party 2 returns to Cielo Rooftop Lounge (SOLD OUT EVERY YEAR). \nGet ready for an unforgettable evening of music\, style\, and breathtaking city views. \n \n\n			GET TICKETS\n			\n			\nDress to impress in your finest all-white attire and dance the evening away with top-tier entertainment from Afrobeats\, Amapiano\, Dancehall\, Soca and Kompa\, all set against the stunning San Diego skyline. This exclusive event is not one to miss! \nTickets are limited for the Luxx All-White Party 2\, and they’re going fast. Secure your spot now and be part of the most talked-about party of the year. \nCelebrate in style with our exclusive table reservations at the Luxx All-White Party! Whether you’re marking a special occasion like a birthday\, anniversary\, graduation\, or simply want to enjoy a chill evening out with friends\, we’ve got you covered. Reserve a table for your group of 4-10 and enjoy premium seating\, personalized service\, and the best views of the San Diego skyline. Make your night unforgettable—book your table now and let us elevate your celebration to the next level! To make a reservation contact info@afropandaent.com\, perfect.sharpe@afropandaent.c0m or call/text +1 (619) 800-2301 \n \nDon’t miss out—join us for an evening of pure elegance and unforgettable moments! \nBonus: Every ticket purchase comes with a free entry to our exclusive after-party! Dance the night away and keep the good times rolling long after the main event. Don’t miss out on this incredible opportunity! \n\n			GET TICKETS
URL:https://afropandaent.com/event/all-white-party-2-elevate-your-night-on-the-rooftop/
LOCATION:Cielo Rooftop Lounge\, 701 Sixth Ave 5th floor\, SAN DIEGO\, CA\, 92101\, United States
CATEGORIES:Day Party
ATTACH;FMTTYPE=image/png:https://afropandaent.com/wp-content/uploads/2024/08/Brown-Rustic-Live-Acoustic-Music-Instagram-Post.png-4.png
ORGANIZER;CN="Afropanda Ent":MAILTO:info@afropandaent.com
END:VEVENT
BEGIN:VEVENT
DTSTART;TZID=America/Denver:20240922T120000
DTEND;TZID=America/Denver:20240922T190000
DTSTAMP:20260422T043116
CREATED:20240906T192820Z
LAST-MODIFIED:20240906T192820Z
UID:2644-1727006400-1727031600@afropandaent.com
SUMMARY:Drippy Pool Club - End Of Summer Afrobeats Pool Party In San Diego | Sept 22
DESCRIPTION:Drippy Pool Club – A Sunset Soiree of Afrobeats and Summer Vibes. \n\n			Get Tickets\n			\n			\nGet ready to bask in the last rays of summer at the Drippy Pool Club’s Afrobeats Edition pool party. This exclusive event\, curated by Drippy Pool Club and Afropanda Entertainment\, promises an unforgettable experience filled with vibrant music\, delicious food\, and refreshing cocktails. \n \nImmerse yourself in the infectious rhythms of Afrobeats\, Afrohouse\, and Amapiano as you dance the day away on the sunny rooftop pool deck. Expect a high-energy atmosphere with a lineup of talented DJs that will keep you moving from start to finish. \n\n			Get Tickets\n			\n			 \n\n \nDon’t forget to wear your favorite swimwear as you soak up the sun and enjoy the stunning views. The party will feature gourmet food options and specialty cocktails to satisfy your taste buds and keep you refreshed throughout the day. \nThis is a 21+ event\, so be sure to bring your ID. \nJoin us for a day of unforgettable fun and celebrate the end of summer in style. \n\n			Get Tickets
URL:https://afropandaent.com/event/drippy-pool-club-afrobeats/
LOCATION:Kimpton Alma\, 1047 Fifth Ave\,\, San Diego\,\, CA\, 92101\, United States
CATEGORIES:Day Party
ATTACH;FMTTYPE=image/jpeg:https://afropandaent.com/wp-content/uploads/2024/05/drippy7.jpeg
ORGANIZER;CN="Afropanda Ent":MAILTO:info@afropandaent.com
END:VEVENT
END:VCALENDAR