BEGIN:VCALENDAR
VERSION:2.0
PRODID:-//Afropanda Entertainment - ECPv6.15.20//NONSGML v1.0//EN
CALSCALE:GREGORIAN
METHOD:PUBLISH
X-WR-CALNAME:Afropanda Entertainment
X-ORIGINAL-URL:https://afropandaent.com
X-WR-CALDESC:Events for Afropanda Entertainment
REFRESH-INTERVAL;VALUE=DURATION:PT1H
X-Robots-Tag:noindex
X-PUBLISHED-TTL:PT1H
BEGIN:VTIMEZONE
TZID:America/Denver
BEGIN:DAYLIGHT
TZOFFSETFROM:-0700
TZOFFSETTO:-0600
TZNAME:MDT
DTSTART:20230312T090000
END:DAYLIGHT
BEGIN:STANDARD
TZOFFSETFROM:-0600
TZOFFSETTO:-0700
TZNAME:MST
DTSTART:20231105T080000
END:STANDARD
BEGIN:DAYLIGHT
TZOFFSETFROM:-0700
TZOFFSETTO:-0600
TZNAME:MDT
DTSTART:20240310T090000
END:DAYLIGHT
BEGIN:STANDARD
TZOFFSETFROM:-0600
TZOFFSETTO:-0700
TZNAME:MST
DTSTART:20241103T080000
END:STANDARD
BEGIN:DAYLIGHT
TZOFFSETFROM:-0700
TZOFFSETTO:-0600
TZNAME:MDT
DTSTART:20250309T090000
END:DAYLIGHT
BEGIN:STANDARD
TZOFFSETFROM:-0600
TZOFFSETTO:-0700
TZNAME:MST
DTSTART:20251102T080000
END:STANDARD
END:VTIMEZONE
BEGIN:VEVENT
DTSTART;TZID=America/Denver:20241006T150000
DTEND;TZID=America/Denver:20241006T220000
DTSTAMP:20260421T204439
CREATED:20240909T010544Z
LAST-MODIFIED:20240924T065416Z
UID:2652-1728226800-1728252000@afropandaent.com
SUMMARY:Celebrate Nigeria Independence Day – A Vibrant Day Party in San Diego!
DESCRIPTION:Celebrate Nigeria – Get ready for an unforgettable afternoon as Umoja Entertainment in collaboration with Afropanda Entertainment and Efroh Entertainment celebrate Nigeria Independence Day in true style! Join us at Wicked West for a vibrant day party where you’ll be immersed in the sights\, sounds\, and flavors of Nigerian culture. \n\n			GET TICKETS\n			\n			\n  \n  \nExperience the pulse of Nigeria with a stellar lineup of expert DJs who will bring the heat with infectious Afrobeats\, highlife and an eclectic mix of Hip Hop\, Dancehall\, and more. Whether you’re grooving to the latest Afrobeats or catching up with friends over traditional Nigerian cuisine\, this is an event you don’t want to miss! \nEvent Details: \n📍 Location: Wicked West\, 1735 National Ave\, San Diego\, CA 92113\n📅 Date: October 6th\, 2024\n⏰ Time: 3:00 PM – 10:00 PM\n🆔 Age Requirement: 21+ with valid ID\n🎨 Dress Code: Show your spirit by wearing green and white!\n🎶 Music: Afrobeats\, Hip Hop\, Dancehall & More\n🍴 Food & Drinks: Available for purchase \n\n			GET TICKETS\n			\n			\n  \n  \nBring your energy and join us as we celebrate Nigeria ’s rich heritage and independence with electrifying music\, great vibes\, and mouthwatering food! \nFor more details or to reserve your table\, text/call 619-268-1349 or 619-800-2301 or email team@umoja-ent.com or info@afropandaent.com . \nLet’s make this a celebration to remember! 🌍🎉 \n\n			GET TICKETS\n			\n			\n  \n \n[mailerlite_form form_id=1] \n[yop_poll id=”1″]
URL:https://afropandaent.com/event/celebrate-nigeria-independence-day-a-vibrant-day-party-in-san-diego/
LOCATION:Wicked West\, San Diego.\, 1735 National Ave\,\, San Diego\, CA\, 92113\, United States
CATEGORIES:Day Party
ATTACH;FMTTYPE=image/jpeg:https://afropandaent.com/wp-content/uploads/2024/09/NIGERIA.jpg
ORGANIZER;CN="Umoja Ent":MAILTO:team@umoja-ent.com
END:VEVENT
END:VCALENDAR