BEGIN:VCALENDAR
VERSION:2.0
PRODID:-//Afropanda Entertainment - ECPv6.15.20//NONSGML v1.0//EN
CALSCALE:GREGORIAN
METHOD:PUBLISH
X-WR-CALNAME:Afropanda Entertainment
X-ORIGINAL-URL:https://afropandaent.com
X-WR-CALDESC:Events for Afropanda Entertainment
REFRESH-INTERVAL;VALUE=DURATION:PT1H
X-Robots-Tag:noindex
X-PUBLISHED-TTL:PT1H
BEGIN:VTIMEZONE
TZID:America/Los_Angeles
BEGIN:DAYLIGHT
TZOFFSETFROM:-0800
TZOFFSETTO:-0700
TZNAME:PDT
DTSTART:20240310T100000
END:DAYLIGHT
BEGIN:STANDARD
TZOFFSETFROM:-0700
TZOFFSETTO:-0800
TZNAME:PST
DTSTART:20241103T090000
END:STANDARD
BEGIN:DAYLIGHT
TZOFFSETFROM:-0800
TZOFFSETTO:-0700
TZNAME:PDT
DTSTART:20250309T100000
END:DAYLIGHT
BEGIN:STANDARD
TZOFFSETFROM:-0700
TZOFFSETTO:-0800
TZNAME:PST
DTSTART:20251102T090000
END:STANDARD
BEGIN:DAYLIGHT
TZOFFSETFROM:-0800
TZOFFSETTO:-0700
TZNAME:PDT
DTSTART:20260308T100000
END:DAYLIGHT
BEGIN:STANDARD
TZOFFSETFROM:-0700
TZOFFSETTO:-0800
TZNAME:PST
DTSTART:20261101T090000
END:STANDARD
BEGIN:DAYLIGHT
TZOFFSETFROM:-0800
TZOFFSETTO:-0700
TZNAME:PDT
DTSTART:20270314T100000
END:DAYLIGHT
BEGIN:STANDARD
TZOFFSETFROM:-0700
TZOFFSETTO:-0800
TZNAME:PST
DTSTART:20271107T090000
END:STANDARD
END:VTIMEZONE
BEGIN:VTIMEZONE
TZID:America/Denver
BEGIN:DAYLIGHT
TZOFFSETFROM:-0700
TZOFFSETTO:-0600
TZNAME:MDT
DTSTART:20240310T090000
END:DAYLIGHT
BEGIN:STANDARD
TZOFFSETFROM:-0600
TZOFFSETTO:-0700
TZNAME:MST
DTSTART:20241103T080000
END:STANDARD
BEGIN:DAYLIGHT
TZOFFSETFROM:-0700
TZOFFSETTO:-0600
TZNAME:MDT
DTSTART:20250309T090000
END:DAYLIGHT
BEGIN:STANDARD
TZOFFSETFROM:-0600
TZOFFSETTO:-0700
TZNAME:MST
DTSTART:20251102T080000
END:STANDARD
BEGIN:DAYLIGHT
TZOFFSETFROM:-0700
TZOFFSETTO:-0600
TZNAME:MDT
DTSTART:20260308T090000
END:DAYLIGHT
BEGIN:STANDARD
TZOFFSETFROM:-0600
TZOFFSETTO:-0700
TZNAME:MST
DTSTART:20261101T080000
END:STANDARD
END:VTIMEZONE
BEGIN:VEVENT
DTSTART;TZID=America/Los_Angeles:20250427T160000
DTEND;TZID=America/Los_Angeles:20250427T210000
DTSTAMP:20260422T214230
CREATED:20250311T143954Z
LAST-MODIFIED:20250328T172758Z
UID:2801-1745769600-1745787600@afropandaent.com
SUMMARY:Afrodiaspora Celebration Day - Music\, Dance\, Food\, Culture and More.
DESCRIPTION:Afrodiaspora Celebration Day 2025 – Get ready to experience the vibrant energy of the Afrodiaspora Celebration Day at our official Festival Launch Party! \n \n\n			Get Tickets\n			\n			\nJoin us for the official launch party of the Afrodiaspora Festival\, a Juneteenth-adjacent celebration of Black arts\, culture\, food and music. This is your chance to get a taste of the excitement to come at the main festival in June! \n \nWhat to Expect: \nLive Music: Groove to the sounds of Afrobeats\, Afrohouse\, Dancehall\, Amapiano and more! \nDelicious Food: Savor mouthwatering dishes from local vendors showcasing the diverse flavors of the Afro diaspora. \nGames & Activities: Enjoy interactive games and activities for all ages. \nCommunity Vibes: Connect with fellow festival-goers and be part of a vibrant celebration of culture and unity. \n\n			Get Tickets\n			\n			\n \nThis is more than just a party – it’s a movement! Come be a part of the Afrodiaspora Festival and celebrate the beauty and diversity of Afro culture. \nGet your tickets now before prices go up. Tickets will be available at the door but will be higher so don’t wait. \nThis event is curated by Afropanda Entertainment\, Yeahhhmayne\, Quartyard\, Global Therapy and Plural Music. \n21+ | No Refunds \nWant to be a vendor at our next event? Apply Here \n\n			Get Tickets\n			\n			\n        \n\n			Get Tickets
URL:https://afropandaent.com/event/afrodiaspora-celebration-day-music-dance-food-culture-and-more/
LOCATION:Quartyard\, San Diego.\, 1301 Market Street\, San Diego\, CA\, 92101\, United States
CATEGORIES:Day Party
ATTACH;FMTTYPE=image/jpeg:https://afropandaent.com/wp-content/uploads/2025/03/1080x1080-INSTAGRAM.jpg
ORGANIZER;CN="Afropanda Ent":MAILTO:info@afropandaent.com
END:VEVENT
BEGIN:VEVENT
DTSTART;TZID=America/Denver:20250608T140000
DTEND;TZID=America/Denver:20250608T210000
DTSTAMP:20260422T214230
CREATED:20250516T183151Z
LAST-MODIFIED:20250516T184912Z
UID:3090-1749391200-1749416400@afropandaent.com
SUMMARY:Catchin Sunsets San Diego
DESCRIPTION:Catchin Sunsets – You are invited to a Rooftop Day Party \nSan Diego\, get ready to Catch Sunsets. \n \nWe’re excited to announce “Catchin’ Sunsets”\, will be making their debut in San Diego at Borrego Rooftop for a day party in partnership with Afropanda Ent.! \n\n			GET TICKETS\n			\n			\n  \nJoin us for an unforgettable afternoon of: \nLive music and DJ sets \nStunning rooftop views \nDelicious food and drinks \nGood vibes and great company \nCome catch the sunset with us and make memories that will last a lifetime! \n  \nDate: Sunday June 8th \nTime: 3pm to 9pm \n  \nMusic Policy by: \nSOLO \nDJ DAFFY \nDJ DRUMRIGHT \nDJ SHAESPINS \nMC: PRINCE \n  \n\n			GET TICKETS\n			\n			\n    \n\n			GET TICKETS
URL:https://afropandaent.com/event/catchin-sunsets-san-diego/
LOCATION:Borrego Rooftop\, 509 9th Ave\, San Diego\, CA\, 92101\, United States
CATEGORIES:Day Party
ATTACH;FMTTYPE=image/jpeg:https://afropandaent.com/wp-content/uploads/2025/05/IMG_2438-scaled.jpg
END:VEVENT
BEGIN:VEVENT
DTSTART;TZID=America/Los_Angeles:20260412T160000
DTEND;TZID=America/Los_Angeles:20260412T210000
DTSTAMP:20260422T214230
CREATED:20260310T033816Z
LAST-MODIFIED:20260324T001257Z
UID:3159-1776009600-1776027600@afropandaent.com
SUMMARY:Afrodiaspora Celebration Day - Music\, Dance\, Food\, Culture + More
DESCRIPTION:Experience the Afrodiaspora Celebration Day at Quartyard\nGet ready to immerse yourself in the vibrant energy of the Afrodiaspora Celebration Day at Quartyard. This isn’t just a gathering; it is a premier celebration of Black arts\, culture\, food\, and music designed to bring the community together in the heart of San Diego. Whether you are a fan of rhythmic beats or soulful flavors\, this festival offers an unparalleled experience of unity and joy. \nAPPLY TO VENDOR \n\n			GET TICKETS\n			\n			\n\n\nWhat to Expect at the Festival\nWhen you join us for the Afrodiaspora Celebration Day\, you are stepping into a curated world of cultural excellence. We have partnered with local leaders to ensure every minute of the event is packed with excitement: \n\n\nLive Music & Global Beats: Groove to the infectious sounds of the diaspora. Our DJs and live performers will be spinning the best in Afrobeats\, Afrohouse\, Dancehall\, and Amapiano. If you’ve been looking for the ultimate day party vibe\, this is it. \n\n\nAuthentic Culinary Delights: Savor mouthwatering dishes from a curated selection of local vendors. These chefs will be showcasing the diverse flavors and traditional spices that define African and Caribbean cuisine. \n\n\nInteractive Games & Activities: This celebration is about more than just the music. Enjoy a variety of interactive games and cultural activities designed to engage guests of all ages and backgrounds. \n\n\nVibrant Community Vibes: This is a space to connect\, network\, and celebrate. We invite you to be part of a movement that honors the beauty and diversity of Black culture. \n\n\n\n\n\n \n\n\n\n  \nAPPLY TO VENDOR \n\n			GET TICKETS\n			\n			 \nEvent Logistics & Tickets\nThis high-energy event is curated by the visionaries at Afropanda Entertainment\, Yeahhhmayne\, and Quartyard. Because of the high demand for cultural festivals in San Diego\, tickets are expected to move fast. \n\n\nDate & Time: Doors open at 4:00 PM. \n\n\nAge Requirement: This is a 21+ event. Please bring a valid ID. \n\n\nPolicy: No refunds. \n\n\nTickets: Limited tickets will be available at the door\, but we highly recommend booking online to lock in the best price. \n\n\n\n			GET TICKETS\n			\n			 \nDon’t miss out on the most anticipated cultural event of the season. To stay updated on future gatherings\, feel free to browse our full event calendar or check out the latest updates from our partners at Afropanda Entertainment. \n\n\nAPPLY TO VENDOR \n\n			GET TICKETS
URL:https://afropandaent.com/event/afrodiaspora-celebration-day-quartyard-sandiego/
LOCATION:Quartyard\, San Diego.\, 1301 Market Street\, San Diego\, CA\, 92101\, United States
CATEGORIES:Day Party
ATTACH;FMTTYPE=image/jpeg:https://afropandaent.com/wp-content/uploads/2026/03/WhatsApp-Image-2026-03-09-at-17.16.10.jpeg
ORGANIZER;CN="Afropanda Ent":MAILTO:info@afropandaent.com
END:VEVENT
END:VCALENDAR