BEGIN:VCALENDAR
VERSION:2.0
PRODID:-//Afropanda Entertainment - ECPv6.15.20//NONSGML v1.0//EN
CALSCALE:GREGORIAN
METHOD:PUBLISH
X-ORIGINAL-URL:https://afropandaent.com
X-WR-CALDESC:Events for Afropanda Entertainment
REFRESH-INTERVAL;VALUE=DURATION:PT1H
X-Robots-Tag:noindex
X-PUBLISHED-TTL:PT1H
BEGIN:VTIMEZONE
TZID:America/Los_Angeles
BEGIN:DAYLIGHT
TZOFFSETFROM:-0800
TZOFFSETTO:-0700
TZNAME:PDT
DTSTART:20220313T100000
END:DAYLIGHT
BEGIN:STANDARD
TZOFFSETFROM:-0700
TZOFFSETTO:-0800
TZNAME:PST
DTSTART:20221106T090000
END:STANDARD
BEGIN:DAYLIGHT
TZOFFSETFROM:-0800
TZOFFSETTO:-0700
TZNAME:PDT
DTSTART:20230312T100000
END:DAYLIGHT
BEGIN:STANDARD
TZOFFSETFROM:-0700
TZOFFSETTO:-0800
TZNAME:PST
DTSTART:20231105T090000
END:STANDARD
BEGIN:DAYLIGHT
TZOFFSETFROM:-0800
TZOFFSETTO:-0700
TZNAME:PDT
DTSTART:20240310T100000
END:DAYLIGHT
BEGIN:STANDARD
TZOFFSETFROM:-0700
TZOFFSETTO:-0800
TZNAME:PST
DTSTART:20241103T090000
END:STANDARD
END:VTIMEZONE
BEGIN:VEVENT
DTSTART;TZID=America/Los_Angeles:20230819T200000
DTEND;TZID=America/Los_Angeles:20230820T020000
DTSTAMP:20260422T092202
CREATED:20230719T161812Z
LAST-MODIFIED:20230719T161812Z
UID:2458-1692475200-1692496800@afropandaent.com
SUMMARY:A Special Vibes Session: Playlist San Diego | Afrobeats\, Amapiano\, Afrohouse.
DESCRIPTION:Join us for a special vibes session of nonstop music\, drinks\, amazing people\, and breathtaking views of the Gaslamp San Diego. \nAFROBEATS | AMAPIANO | AFROHOUSE & MORE. PROUDLY SUPPORTED BY METAL BANKING. \n\n			Get Tickets\n			\n			\nGet ready to start the weekend off with a bang and end the night on a high note! Join us for an unforgettable night of nonstop music\, great vibes\, amazing people\, lots of drinks and a breathtaking view of the Gaslamp San Diego. This is an event you don’t want to miss! \nDress to impress in your most colorful\, expressive and bright attire. Don’t wait\, grab your tickets now before online sales end! \nOur team at Afropanda Entertainment & Umoja Ent along side our prestigious partners at Metal Finance & Revel Revel have curated this unique event that will keep you dancing all night long. This edition is a special vibe session featuring a special guest. \nWith a full DJ line-up\, you’re in for a treat. \nTickets will be available at the door but might be higher once online sales ends \nFood & Bottle service available \nGet your dance shoes ready and enjoy your weekend with us!. \nBirthday and all other inquires – DM @AFROPANDA_ENT OR @Umoja.Ent on Instagram or call +1 (619) 800-2301. \n\n\n\n			Get Tickets\n			\n			\n\n\n\n\n\n\n\n\n\nThis event is perfect for birthday celebrations\, bachelorette parties\, anniversaries\, graduations\, and more! Balloons and cakes are permitted\, but please no other outside food allowed. \nFor more information or special reservations\, contact us on Instagram by DMing @AFROPANDA_ENT or @Umoja.Ent or by calling +1 (619) 800-2301. \nRefund policy: Ticket sales are final and cannot be refunded after purchase is complete. \nThe Night includes: \nCaptivating views of the San Diego Gaslamp; \nVIP Ticket Includes Express Line Entry (No wait) \n\n			Get Tickets\n			\n			\nWaitress Service Available ; \nVIP Bottle Service & Table Sections Available – Contact us for more information & special reservations Call/text Afropanda (619)-800-2301 and/or email info@afropandaent.com or team@umoja-ent.com for the Bottle Services Flyer\, Birthdays & Packages. \nLive DJs playing various styles of music\, all night long! \nFood Available for Purchase before 10PM. \nThe dress code is Dress to Impress: No hats | No Tims/boots | No joggers | No sweats | No basketball shorts \n\n			Get Tickets\n			\n			\nTickets will be available at the door but might be higher once online sales ends \nThis event is proudly supported by Metal Finance \n\n\n\n\nEvent Information: \nLocation: Revel Revel SD\, 868 fifth Ave. Unit A\, San Diego\, CA 92101 \nDate: August 19\, 2023 (A Special Vibes Session) \nTime: 8:00 PM \nRain or Shine \n21+ & over with proper ID \n\n			Get Tickets\n			\n			\nTickets will be available at the door but might be higher once online sales ends \n\n\n\n\n\n\n\n\n\nEARLY ARRIVAL IS HIGHLY RECOMMENDED \nBring your positive vibes & great energy all 2023! Hope to see you there! \nDue to the COVID-19 pandemic all patrons enter at their own risk and agree to abide by all local\, state\, and federal guidelines governing the current COVID-19 pandemic. You further agree by attending this event to hold harmless the entertainment company\, venue\, it’s staff and/or contractors of anything conducted or contracted due to the current pandemic or anything outside the control of the above named individuals.. \nThe contact information provided to us\, such as Email\, Phone number etc\, may be used to promote future events\, products and services. Your information will not be shared with any third party or Brands outside of Afropanda LLC\, Monster Energy Drink\, Umoja Ent.\, Metal finance or Revel Revel Events. If you have questions\, please email us directly through Info@afropandaent.com or visit www.afropandaent.com for more info. \n  \nBy attending Playlist SD\, you give and consent to Afropanda LLC and its partners to use in any form deemed necessary including but not limited to social media\, event posters\, media features etc\, pictures and videos of you that may be produced during the course of the event\, and none of the parties can or shall be held liable for the usage of such contents. \n\n\n\n\n\n\n			Get Tickets
URL:https://afropandaent.com/event/playlistsd-special-vibes-session/
LOCATION:Revel Revel SD\, 868 fifth ave. unit A\, san diego\, CA\, 92101\, United States
CATEGORIES:Nightclub
ATTACH;FMTTYPE=image/png:https://afropandaent.com/wp-content/uploads/2023/07/Square.png
ORGANIZER;CN="Afropanda Ent":MAILTO:info@afropandaent.com
END:VEVENT
BEGIN:VEVENT
DTSTART;TZID=America/Los_Angeles:20230827T160000
DTEND;TZID=America/Los_Angeles:20230827T210000
DTSTAMP:20260422T092202
CREATED:20230718T030123Z
LAST-MODIFIED:20230718T030123Z
UID:2448-1693152000-1693170000@afropandaent.com
SUMMARY:Afro-diaspora Celebration Day 2.2 - Afrobeats\, Amapiano\, Afrohouse & More
DESCRIPTION:The biggest gathering of the Afro-diaspora community in San Diego is back with more music\, games\, vendors\, food\, drinks\, and more!\nAfro-diaspora Celebration Day 2.2 – Bridging The Culture w/ Afrobeats\, Amapiano\, Afrohouse & More. \n\n			GET TICKETS\n			\n			\nTickets might be available at the door but will be higher once online pre-sales ends\, so get your tickets now! \nDress Code: Afro-inspired and Traditional!! \nCurated By: AfroPanda Ent. \, Yeahman & Quartyard. \nFood\, Games\, Drinks\, Vendors available and a Full DJ Line-Up. \nGet your dance shoes ready this August and celebrate with us in the heart of the Gaslamp San Diego! \nBirthday and all other inquiries – DM @AFROPANDA_ENT OR @Yeahhhmayne on Instagram or call +1 (619)800-2301 \n\n\n. \n\n\n\n\n\n\n\n\n\n  \nBe sure to check out our fully stocked bar! Order drinks and food directly at the bar! Preview and patronize our uniquely selected local vendors who will be showcasing their products and services\, learn and play new games\, dance from daytime till sunset. \n\n			GET TICKETS\n			\n			\nThe Day Includes: \nAmple outdoor space for interaction\, relaxation\, and dance! \n\n\n\n\n\n\n\n\n\n\n\n\n\n\nAlso Live DJs playing various styles of afro-inspired music\, all day long! \nFood available for purchase from our food vendors. \nGames! Games!! Games!!! such as Jenga\, Card games\, Ludo\, Monopoly\, Connect 4 and many others as well as some African inspired board games. \nGreat for Birthday Celebrations / bachelorette / bachelor / anniversary / graduations & more (Balloons & Cakes permitted – no other outside food allowed) \nThe dress code for Afro-diaspora Celebration Day is Afro-inspired and Traditional. Dress to Impress \nContact us for more information & special reservations: call/text (619)-800-2301 and/or email info@afropandaent.com \n\n			GET TICKETS\n			\n			\nTickets may be available at the door but might be higher once online pre sales ends \nEvent Information: \nLocation: Quartyard\, 1301 Market St.\, San Diego\, CA 92101. \nDate: Sun\, August 27\, 2023 \nTime: 4:00PM – 9:00PM \n21+ & Over with proper ID \n  \nEARLY ARRIVAL IS HIGHLY RECOMMENDED \nBring your positive vibes & great energy all 2023! Hope to see you there! \n  \nFrequently Asked Questions: \nWhat is your refund policy?: All sales are final. There will be no refunds issued. \nWhat is the minimum age requirement?: This is a 21 & Up event. No one under the age of 21 will be allowed in. IDs will be checked at the door. \nDo I have to print out my ticket?: Both printed or electronic tickets will be accepted at the door. Not having your ticket at the door will result in you having to purchase another ticket at the door. Tickets will be available for purchase at the door but might be higher due to demand. \nWill my ticket be good all day?: Tickets are guaranteed until we are at capacity. It is advised that all persons purchasing a ticket online\, get there before 6PM or before we hit capacity to be guaranteed entry. \nWhat is the dress code?: Fashionably Afro-inspired & Traditional highly encouraged. This is still a social setting\, so dressing fashionably is always recommended and highly encouraged. Bring your best afro-inspired outfits and you could win a gift. \nWill there be table reservations/bottle service available?: All inquiries should be made ASAP by sending a DM to @Afropanda_ent \, or @yeahhhman on Instagram or TEXT +1 (619) 800-2301. \n  \nDISCLAIMER: \nDue to the COVID-19 pandemic all patrons enter at their own risk and agree to abide by all local\, state\, and federal guidelines governing the current COVID-19 pandemic. You further agree by attending this event to hold harmless the entertainment company\, venue\, its staff and/or contractors of anything conducted or contracted due to the current pandemic or anything outside the control of the above named individuals. \nThe contact information provided to us\, such as Email\, Names and Phone number\, may be used to promote future events. Your information will not be shared with any third party or Brands outside of Afropanda LLC\, Quartyard or Yeahman. If you have questions\, please email us directly through Info@afropandaent.com or visit www.afropandaent.com for more info. By attending Afro-diaspora Celebration Day\, you give and consent to Afropanda and its partners to use in any form deemed necessary including but not limited to social media\, event posters\, media features etc\, pictures and videos of you that may be produced during the course of the event\, and none of the parties can or shall be held liable for the usage of such contents. \n\n			GET TICKETS\n			\n			\nTickets might be available at the door but might be higher once online sales ends.
URL:https://afropandaent.com/event/afro-diaspora-celebration-day-2-2/
LOCATION:Quartyard\, San Diego.\, 1301 Market Street\, San Diego\, CA\, 92101\, United States
CATEGORIES:Day Party
ATTACH;FMTTYPE=image/png:https://afropandaent.com/wp-content/uploads/2023/07/Square-2.png
ORGANIZER;CN="Afropanda Ent":MAILTO:info@afropandaent.com
END:VEVENT
END:VCALENDAR