BEGIN:VCALENDAR
VERSION:2.0
PRODID:-//Afropanda Entertainment - ECPv6.15.20//NONSGML v1.0//EN
CALSCALE:GREGORIAN
METHOD:PUBLISH
X-ORIGINAL-URL:https://afropandaent.com
X-WR-CALDESC:Events for Afropanda Entertainment
REFRESH-INTERVAL;VALUE=DURATION:PT1H
X-Robots-Tag:noindex
X-PUBLISHED-TTL:PT1H
BEGIN:VTIMEZONE
TZID:America/Denver
BEGIN:DAYLIGHT
TZOFFSETFROM:-0700
TZOFFSETTO:-0600
TZNAME:MDT
DTSTART:20230312T090000
END:DAYLIGHT
BEGIN:STANDARD
TZOFFSETFROM:-0600
TZOFFSETTO:-0700
TZNAME:MST
DTSTART:20231105T080000
END:STANDARD
BEGIN:DAYLIGHT
TZOFFSETFROM:-0700
TZOFFSETTO:-0600
TZNAME:MDT
DTSTART:20240310T090000
END:DAYLIGHT
BEGIN:STANDARD
TZOFFSETFROM:-0600
TZOFFSETTO:-0700
TZNAME:MST
DTSTART:20241103T080000
END:STANDARD
BEGIN:DAYLIGHT
TZOFFSETFROM:-0700
TZOFFSETTO:-0600
TZNAME:MDT
DTSTART:20250309T090000
END:DAYLIGHT
BEGIN:STANDARD
TZOFFSETFROM:-0600
TZOFFSETTO:-0700
TZNAME:MST
DTSTART:20251102T080000
END:STANDARD
END:VTIMEZONE
BEGIN:VEVENT
DTSTART;TZID=America/Denver:20241002T190000
DTEND;TZID=America/Denver:20241002T210000
DTSTAMP:20260421T105723
CREATED:20240921T224750Z
LAST-MODIFIED:20240921T224750Z
UID:2686-1727895600-1727902800@afropandaent.com
SUMMARY:Featured: Kweisi is Back in Los Angeles! Celebrate with a Free Spoken Word Performance!
DESCRIPTION:Kweisi\, the powerful spoken word artist\, is returning from his creative roots in Chicago after a year away from LA! You won’t want to miss this special homecoming event. \nREGISTER HERE! \nJoin kweisi for a FREE spoken word performance showcasing his latest album\, “the truth. the way. the life.” \nThis event is a celebration of kweisi’s journey: \n\nHis love for Chicago\, where his artistic spirit ignited.\nThe impact of his hometown on his powerful poetry.\nThe release of his debut book\, “n’nocent RAGE”\, a testament to healing and forgiveness.\n\nREGISTER HERE! \nWhile the performance is free\, there’s a special pre-sale offer available: \n\nPre-order a copy of “n’nocent RAGE” for $100 (increases to $150 at the event).\nReceive a bonus package:\n\nA live 45-minute spoken word performance by kweisi.\nA copy of “n’nocent RAGE”.\nA limited-edition “I SELL DOPE (Drive Ownership Power Enlightenment)” t-shirt.\nA complimentary slice of cheese pizza and a small soda.\n\n\n\nDon’t miss this chance to experience kweisi’s powerful words and celebrate his return to Chicago! \nListen to “the truth. the way. the life.” album: \n \nPre-order your special package now (limited quantities available)! \nREGISTER HERE!
URL:https://afropandaent.com/event/featured-kweisi-is-back-in-los-angeles-celebrate-with-a-free-spoken-word-performance/
LOCATION:Delicious Pizza\, 5419 W Adams Blvd\, Los Angeles\, CA\, 90016\, United States
CATEGORIES:Art
ATTACH;FMTTYPE=image/png:https://afropandaent.com/wp-content/uploads/2024/09/LA-kweisi-Delicious-Pizza-photo.png
ORGANIZER;CN="kgPR":MAILTO:kweisigharreau@gmail.com
END:VEVENT
END:VCALENDAR